BEGIN:VCALENDAR
VERSION:2.0
PRODID:http://www.katholische-kirche-rheinbach.de
BEGIN:VEVENT
UID:749020cd-3d95-11f1-9f60-0242ac11002b-1779989400000-de
DTSTAMP:20260421T151914Z
DTSTART:20260528T173000Z
DTEND:20260528T190000Z
SUMMARY;LANGUAGE=de:Themenabend:“Wie mache ich mein Kind stark gegen sexuellen Missbrauch“
DESCRIPTION;LANGUAGE=de:Herzliche Einladung zum Themenabend:“ Wie mache ich mein Kind stark gegen Missbrauch“ in der Kita Liebfrauenwiese\, Lurheck 18
END:VEVENT
END:VCALENDAR
